BEGIN:VCALENDAR
VERSION:2.0
PRODID:-//wp-events-plugin.com//7.2.3.1//EN
TZID:America/Mexico_City
X-WR-TIMEZONE:America/Mexico_City
BEGIN:VEVENT
UID:2@universaldomainexchange.com
DTSTART;TZID=America/Mexico_City:20260418T110000
DTEND;TZID=America/Mexico_City:20260418T123000
DTSTAMP:20260413T224447Z
URL:https://universaldomainexchange.com/vcom/events/coffee-connection-and-
 conversation/
SUMMARY:Coffee\, Connection\, and Conversation
DESCRIPTION:\n\nYou are invited to attend our next Social Meetup for conver
 sation and connection. There will be coffee\, tea\, kombuchas\, cascara mo
 jitas\, ginger sodas\, and more. This low-pressure\, high-connection space
  provides an opportunity to meet new and old friends in a safe environment
  in Colonial Vista Hermosa in Cuernavaca.\n\nWe will meet at 11 am on Satu
 rday\, April 18\, 2026. The event is without cost and only requires your R
 SVP to hold your spot and receive the secure location details.
CATEGORIES:Events
END:VEVENT
BEGIN:VTIMEZONE
TZID:America/Mexico_City
X-LIC-LOCATION:America/Mexico_City
BEGIN:STANDARD
DTSTART:20250418T110000
TZOFFSETFROM:-0600
TZOFFSETTO:-0600
TZNAME:CST
END:STANDARD
END:VTIMEZONE
END:VCALENDAR