BEGIN:VCALENDAR
VERSION:2.0
PRODID:-//wp-events-plugin.com//7.2.3.1//EN
TZID:America/Mexico_City
X-WR-TIMEZONE:America/Mexico_City
BEGIN:VEVENT
UID:4@universaldomainexchange.com
DTSTART;TZID=America/Mexico_City:20260515T170000
DTEND;TZID=America/Mexico_City:20260515T170000
DTSTAMP:20260413T182244Z
URL:https://universaldomainexchange.com/vcom/events/coffee-party-cuernavac
 a/
SUMMARY:Coffee Party Cuernavaca
DESCRIPTION:To the Rhythm of the Music with a taste of coffee that will ign
 ite your emotions and senses. We invite you to our first Coffee Party in a
  space to enjoy good music\, delicious coffee\, and Good food. Enjoy great
  music with DJ.\n\nCome with your friends\, meet new people\, and let your
 self be carried away by the healthy and family-friendly atmosphere with co
 ffee\, good vibes\, and lots of music. \n\nWHEN: FRIDAY\, MAY 15 5pm\n\nWH
 ERE: CASA MORITA Cuernavaca City Center \n\nReserve your spot now! SPECIAL
  PRESALE - Write to us for more info: WhatsApp +52 777 114 3895
CATEGORIES:Events
END:VEVENT
BEGIN:VTIMEZONE
TZID:America/Mexico_City
X-LIC-LOCATION:America/Mexico_City
BEGIN:STANDARD
DTSTART:20250515T170000
TZOFFSETFROM:-0600
TZOFFSETTO:-0600
TZNAME:CST
END:STANDARD
END:VTIMEZONE
END:VCALENDAR