BEGIN:VCALENDAR
VERSION:2.0
PRODID:-//wp-events-plugin.com//7.2.3.1//EN
TZID:America/Mexico_City
X-WR-TIMEZONE:America/Mexico_City
BEGIN:VEVENT
UID:3@universaldomainexchange.com
DTSTART;TZID=America/Mexico_City:20260418T190000
DTEND;TZID=America/Mexico_City:20260418T200000
DTSTAMP:20260413T224331Z
URL:https://universaldomainexchange.com/vcom/events/recordare/
SUMMARY:Recordare
DESCRIPTION:Museo Güelu Fundación Fernando Cué Gómez A.C. presents RECO
 RDARE\, a cycle that explores memory as a sound experience in the present.
 \n\n“Memory is not an archive of the past\, but a form of presence.”
  - George Crumb\n\nWe are presenting in Cuernavaca\, with works by:\n\n
 • George Crumb\n• Caroline Shaw (@carolineadelaideshaw)\n• Hilda Par
 edes (@paredes_hilda)\n• David Téllez (@dv.tz)\n• Ricardo Páez (@rpa
 ezc)\n• David Alvarado (@david.ernesto.alvarado)\n• Ali Zacstom (@aliz
 acstom)\n• Aurès Moussong (@auresius.moussong)\n\nWhere: Museo Güelu (
 @museo_guelu)\, Esq. Rio Balsas and Ixcateopan 101\, Vista Hermosa\, Cuern
 avaca\, Morelos\nWhen: April 18 \, 2026\, 7 pm\nFree entry  : RSVP i
 s Essential for Admission due to limited availability.\nRSVP to contacto@m
 usikontempo.com   to gain entry to the performance.
CATEGORIES:Events
END:VEVENT
BEGIN:VTIMEZONE
TZID:America/Mexico_City
X-LIC-LOCATION:America/Mexico_City
BEGIN:STANDARD
DTSTART:20250418T190000
TZOFFSETFROM:-0600
TZOFFSETTO:-0600
TZNAME:CST
END:STANDARD
END:VTIMEZONE
END:VCALENDAR